BEGIN:VCALENDAR
VERSION:2.0
PRODID:-//New Birth Evangelical Baptist Church - ECPv6.13.2.1//NONSGML v1.0//EN
CALSCALE:GREGORIAN
METHOD:PUBLISH
X-ORIGINAL-URL:https://nbebc.org
X-WR-CALDESC:Events for New Birth Evangelical Baptist Church
REFRESH-INTERVAL;VALUE=DURATION:PT1H
X-Robots-Tag:noindex
X-PUBLISHED-TTL:PT1H
BEGIN:VTIMEZONE
TZID:America/New_York
BEGIN:DAYLIGHT
TZOFFSETFROM:-0500
TZOFFSETTO:-0400
TZNAME:EDT
DTSTART:20240310T070000
END:DAYLIGHT
BEGIN:STANDARD
TZOFFSETFROM:-0400
TZOFFSETTO:-0500
TZNAME:EST
DTSTART:20241103T060000
END:STANDARD
BEGIN:DAYLIGHT
TZOFFSETFROM:-0500
TZOFFSETTO:-0400
TZNAME:EDT
DTSTART:20250309T070000
END:DAYLIGHT
BEGIN:STANDARD
TZOFFSETFROM:-0400
TZOFFSETTO:-0500
TZNAME:EST
DTSTART:20251102T060000
END:STANDARD
END:VTIMEZONE
BEGIN:VEVENT
DTSTART;TZID=America/New_York:20250622T103000
DTEND;TZID=America/New_York:20250622T120000
DTSTAMP:20260424T165411
CREATED:20230724T012254Z
LAST-MODIFIED:20230724T012254Z
UID:32723-1750588200-1750593600@nbebc.org
SUMMARY:Worship service
DESCRIPTION:Sunday 10:30AM: Worship service
URL:https://nbebc.org/event/worship-service-2025-06-22/
LOCATION:New Birth Evangelical Baptist Church\, 14 Technical Park Drive\, Holbrook\, MA\, 02343\, United States
CATEGORIES:Worship Service
ATTACH;FMTTYPE=image/jpeg:https://nbebc.org/wp-content/uploads/2014/03/img_gallery12.jpg
END:VEVENT
BEGIN:VEVENT
DTSTART;TZID=America/New_York:20250615T103000
DTEND;TZID=America/New_York:20250615T120000
DTSTAMP:20260424T165411
CREATED:20230724T012254Z
LAST-MODIFIED:20230724T012254Z
UID:32722-1749983400-1749988800@nbebc.org
SUMMARY:Worship service
DESCRIPTION:Sunday 10:30AM: Worship service
URL:https://nbebc.org/event/worship-service-2025-06-15/
LOCATION:New Birth Evangelical Baptist Church\, 14 Technical Park Drive\, Holbrook\, MA\, 02343\, United States
CATEGORIES:Worship Service
ATTACH;FMTTYPE=image/jpeg:https://nbebc.org/wp-content/uploads/2014/03/img_gallery12.jpg
END:VEVENT
BEGIN:VEVENT
DTSTART;TZID=America/New_York:20250608T103000
DTEND;TZID=America/New_York:20250608T120000
DTSTAMP:20260424T165411
CREATED:20230724T012254Z
LAST-MODIFIED:20230724T012254Z
UID:32721-1749378600-1749384000@nbebc.org
SUMMARY:Worship service
DESCRIPTION:Sunday 10:30AM: Worship service
URL:https://nbebc.org/event/worship-service-2025-06-08/
LOCATION:New Birth Evangelical Baptist Church\, 14 Technical Park Drive\, Holbrook\, MA\, 02343\, United States
CATEGORIES:Worship Service
ATTACH;FMTTYPE=image/jpeg:https://nbebc.org/wp-content/uploads/2014/03/img_gallery12.jpg
END:VEVENT
BEGIN:VEVENT
DTSTART;TZID=America/New_York:20250601T103000
DTEND;TZID=America/New_York:20250601T120000
DTSTAMP:20260424T165411
CREATED:20230724T012254Z
LAST-MODIFIED:20230724T012254Z
UID:32720-1748773800-1748779200@nbebc.org
SUMMARY:Worship service
DESCRIPTION:Sunday 10:30AM: Worship service
URL:https://nbebc.org/event/worship-service-2025-06-01/
LOCATION:New Birth Evangelical Baptist Church\, 14 Technical Park Drive\, Holbrook\, MA\, 02343\, United States
CATEGORIES:Worship Service
ATTACH;FMTTYPE=image/jpeg:https://nbebc.org/wp-content/uploads/2014/03/img_gallery12.jpg
END:VEVENT
BEGIN:VEVENT
DTSTART;TZID=America/New_York:20250525T103000
DTEND;TZID=America/New_York:20250525T120000
DTSTAMP:20260424T165411
CREATED:20230724T012254Z
LAST-MODIFIED:20230724T012254Z
UID:32719-1748169000-1748174400@nbebc.org
SUMMARY:Worship service
DESCRIPTION:Sunday 10:30AM: Worship service
URL:https://nbebc.org/event/worship-service-2025-05-25/
LOCATION:New Birth Evangelical Baptist Church\, 14 Technical Park Drive\, Holbrook\, MA\, 02343\, United States
CATEGORIES:Worship Service
ATTACH;FMTTYPE=image/jpeg:https://nbebc.org/wp-content/uploads/2014/03/img_gallery12.jpg
END:VEVENT
BEGIN:VEVENT
DTSTART;TZID=America/New_York:20250518T103000
DTEND;TZID=America/New_York:20250518T120000
DTSTAMP:20260424T165411
CREATED:20230724T012254Z
LAST-MODIFIED:20230724T012254Z
UID:32718-1747564200-1747569600@nbebc.org
SUMMARY:Worship service
DESCRIPTION:Sunday 10:30AM: Worship service
URL:https://nbebc.org/event/worship-service-2025-05-18/
LOCATION:New Birth Evangelical Baptist Church\, 14 Technical Park Drive\, Holbrook\, MA\, 02343\, United States
CATEGORIES:Worship Service
ATTACH;FMTTYPE=image/jpeg:https://nbebc.org/wp-content/uploads/2014/03/img_gallery12.jpg
END:VEVENT
BEGIN:VEVENT
DTSTART;TZID=America/New_York:20250511T103000
DTEND;TZID=America/New_York:20250511T120000
DTSTAMP:20260424T165411
CREATED:20230724T012254Z
LAST-MODIFIED:20230724T012254Z
UID:32717-1746959400-1746964800@nbebc.org
SUMMARY:Worship service
DESCRIPTION:Sunday 10:30AM: Worship service
URL:https://nbebc.org/event/worship-service-2025-05-11/
LOCATION:New Birth Evangelical Baptist Church\, 14 Technical Park Drive\, Holbrook\, MA\, 02343\, United States
CATEGORIES:Worship Service
ATTACH;FMTTYPE=image/jpeg:https://nbebc.org/wp-content/uploads/2014/03/img_gallery12.jpg
END:VEVENT
BEGIN:VEVENT
DTSTART;TZID=America/New_York:20250504T103000
DTEND;TZID=America/New_York:20250504T120000
DTSTAMP:20260424T165411
CREATED:20230724T012254Z
LAST-MODIFIED:20230724T012254Z
UID:32716-1746354600-1746360000@nbebc.org
SUMMARY:Worship service
DESCRIPTION:Sunday 10:30AM: Worship service
URL:https://nbebc.org/event/worship-service-2025-05-04/
LOCATION:New Birth Evangelical Baptist Church\, 14 Technical Park Drive\, Holbrook\, MA\, 02343\, United States
CATEGORIES:Worship Service
ATTACH;FMTTYPE=image/jpeg:https://nbebc.org/wp-content/uploads/2014/03/img_gallery12.jpg
END:VEVENT
BEGIN:VEVENT
DTSTART;TZID=America/New_York:20250427T103000
DTEND;TZID=America/New_York:20250427T120000
DTSTAMP:20260424T165411
CREATED:20230724T012254Z
LAST-MODIFIED:20230724T012254Z
UID:32715-1745749800-1745755200@nbebc.org
SUMMARY:Worship service
DESCRIPTION:Sunday 10:30AM: Worship service
URL:https://nbebc.org/event/worship-service-2025-04-27/
LOCATION:New Birth Evangelical Baptist Church\, 14 Technical Park Drive\, Holbrook\, MA\, 02343\, United States
CATEGORIES:Worship Service
ATTACH;FMTTYPE=image/jpeg:https://nbebc.org/wp-content/uploads/2014/03/img_gallery12.jpg
END:VEVENT
BEGIN:VEVENT
DTSTART;TZID=America/New_York:20250420T103000
DTEND;TZID=America/New_York:20250420T120000
DTSTAMP:20260424T165411
CREATED:20230724T012254Z
LAST-MODIFIED:20230724T012254Z
UID:32714-1745145000-1745150400@nbebc.org
SUMMARY:Worship service
DESCRIPTION:Sunday 10:30AM: Worship service
URL:https://nbebc.org/event/worship-service-2025-04-20/
LOCATION:New Birth Evangelical Baptist Church\, 14 Technical Park Drive\, Holbrook\, MA\, 02343\, United States
CATEGORIES:Worship Service
ATTACH;FMTTYPE=image/jpeg:https://nbebc.org/wp-content/uploads/2014/03/img_gallery12.jpg
END:VEVENT
BEGIN:VEVENT
DTSTART;TZID=America/New_York:20250413T103000
DTEND;TZID=America/New_York:20250413T120000
DTSTAMP:20260424T165411
CREATED:20230724T012254Z
LAST-MODIFIED:20230724T012254Z
UID:32713-1744540200-1744545600@nbebc.org
SUMMARY:Worship service
DESCRIPTION:Sunday 10:30AM: Worship service
URL:https://nbebc.org/event/worship-service-2025-04-13/
LOCATION:New Birth Evangelical Baptist Church\, 14 Technical Park Drive\, Holbrook\, MA\, 02343\, United States
CATEGORIES:Worship Service
ATTACH;FMTTYPE=image/jpeg:https://nbebc.org/wp-content/uploads/2014/03/img_gallery12.jpg
END:VEVENT
BEGIN:VEVENT
DTSTART;TZID=America/New_York:20250406T103000
DTEND;TZID=America/New_York:20250406T120000
DTSTAMP:20260424T165411
CREATED:20230724T012254Z
LAST-MODIFIED:20230724T012254Z
UID:32712-1743935400-1743940800@nbebc.org
SUMMARY:Worship service
DESCRIPTION:Sunday 10:30AM: Worship service
URL:https://nbebc.org/event/worship-service-2025-04-06/
LOCATION:New Birth Evangelical Baptist Church\, 14 Technical Park Drive\, Holbrook\, MA\, 02343\, United States
CATEGORIES:Worship Service
ATTACH;FMTTYPE=image/jpeg:https://nbebc.org/wp-content/uploads/2014/03/img_gallery12.jpg
END:VEVENT
BEGIN:VEVENT
DTSTART;TZID=America/New_York:20250330T103000
DTEND;TZID=America/New_York:20250330T120000
DTSTAMP:20260424T165411
CREATED:20230724T012254Z
LAST-MODIFIED:20230724T012254Z
UID:32711-1743330600-1743336000@nbebc.org
SUMMARY:Worship service
DESCRIPTION:Sunday 10:30AM: Worship service
URL:https://nbebc.org/event/worship-service-2025-03-30/
LOCATION:New Birth Evangelical Baptist Church\, 14 Technical Park Drive\, Holbrook\, MA\, 02343\, United States
CATEGORIES:Worship Service
ATTACH;FMTTYPE=image/jpeg:https://nbebc.org/wp-content/uploads/2014/03/img_gallery12.jpg
END:VEVENT
BEGIN:VEVENT
DTSTART;TZID=America/New_York:20250323T103000
DTEND;TZID=America/New_York:20250323T120000
DTSTAMP:20260424T165411
CREATED:20230724T012254Z
LAST-MODIFIED:20230724T012254Z
UID:32710-1742725800-1742731200@nbebc.org
SUMMARY:Worship service
DESCRIPTION:Sunday 10:30AM: Worship service
URL:https://nbebc.org/event/worship-service-2025-03-23/
LOCATION:New Birth Evangelical Baptist Church\, 14 Technical Park Drive\, Holbrook\, MA\, 02343\, United States
CATEGORIES:Worship Service
ATTACH;FMTTYPE=image/jpeg:https://nbebc.org/wp-content/uploads/2014/03/img_gallery12.jpg
END:VEVENT
BEGIN:VEVENT
DTSTART;TZID=America/New_York:20250316T103000
DTEND;TZID=America/New_York:20250316T120000
DTSTAMP:20260424T165411
CREATED:20230724T012254Z
LAST-MODIFIED:20230724T012254Z
UID:32709-1742121000-1742126400@nbebc.org
SUMMARY:Worship service
DESCRIPTION:Sunday 10:30AM: Worship service
URL:https://nbebc.org/event/worship-service-2025-03-16/
LOCATION:New Birth Evangelical Baptist Church\, 14 Technical Park Drive\, Holbrook\, MA\, 02343\, United States
CATEGORIES:Worship Service
ATTACH;FMTTYPE=image/jpeg:https://nbebc.org/wp-content/uploads/2014/03/img_gallery12.jpg
END:VEVENT
BEGIN:VEVENT
DTSTART;TZID=America/New_York:20250309T103000
DTEND;TZID=America/New_York:20250309T120000
DTSTAMP:20260424T165411
CREATED:20230724T012254Z
LAST-MODIFIED:20230724T012254Z
UID:32708-1741516200-1741521600@nbebc.org
SUMMARY:Worship service
DESCRIPTION:Sunday 10:30AM: Worship service
URL:https://nbebc.org/event/worship-service-2025-03-09/
LOCATION:New Birth Evangelical Baptist Church\, 14 Technical Park Drive\, Holbrook\, MA\, 02343\, United States
CATEGORIES:Worship Service
ATTACH;FMTTYPE=image/jpeg:https://nbebc.org/wp-content/uploads/2014/03/img_gallery12.jpg
END:VEVENT
BEGIN:VEVENT
DTSTART;TZID=America/New_York:20250302T103000
DTEND;TZID=America/New_York:20250302T120000
DTSTAMP:20260424T165411
CREATED:20230724T012254Z
LAST-MODIFIED:20230724T012254Z
UID:32707-1740911400-1740916800@nbebc.org
SUMMARY:Worship service
DESCRIPTION:Sunday 10:30AM: Worship service
URL:https://nbebc.org/event/worship-service-2025-03-02/
LOCATION:New Birth Evangelical Baptist Church\, 14 Technical Park Drive\, Holbrook\, MA\, 02343\, United States
CATEGORIES:Worship Service
ATTACH;FMTTYPE=image/jpeg:https://nbebc.org/wp-content/uploads/2014/03/img_gallery12.jpg
END:VEVENT
BEGIN:VEVENT
DTSTART;TZID=America/New_York:20250223T103000
DTEND;TZID=America/New_York:20250223T120000
DTSTAMP:20260424T165411
CREATED:20230724T012254Z
LAST-MODIFIED:20230724T012254Z
UID:32706-1740306600-1740312000@nbebc.org
SUMMARY:Worship service
DESCRIPTION:Sunday 10:30AM: Worship service
URL:https://nbebc.org/event/worship-service-2025-02-23/
LOCATION:New Birth Evangelical Baptist Church\, 14 Technical Park Drive\, Holbrook\, MA\, 02343\, United States
CATEGORIES:Worship Service
ATTACH;FMTTYPE=image/jpeg:https://nbebc.org/wp-content/uploads/2014/03/img_gallery12.jpg
END:VEVENT
BEGIN:VEVENT
DTSTART;TZID=America/New_York:20250216T103000
DTEND;TZID=America/New_York:20250216T120000
DTSTAMP:20260424T165411
CREATED:20230724T012254Z
LAST-MODIFIED:20230724T012254Z
UID:32705-1739701800-1739707200@nbebc.org
SUMMARY:Worship service
DESCRIPTION:Sunday 10:30AM: Worship service
URL:https://nbebc.org/event/worship-service-2025-02-16/
LOCATION:New Birth Evangelical Baptist Church\, 14 Technical Park Drive\, Holbrook\, MA\, 02343\, United States
CATEGORIES:Worship Service
ATTACH;FMTTYPE=image/jpeg:https://nbebc.org/wp-content/uploads/2014/03/img_gallery12.jpg
END:VEVENT
BEGIN:VEVENT
DTSTART;TZID=America/New_York:20250209T103000
DTEND;TZID=America/New_York:20250209T120000
DTSTAMP:20260424T165411
CREATED:20230724T012254Z
LAST-MODIFIED:20230724T012254Z
UID:32704-1739097000-1739102400@nbebc.org
SUMMARY:Worship service
DESCRIPTION:Sunday 10:30AM: Worship service
URL:https://nbebc.org/event/worship-service-2025-02-09/
LOCATION:New Birth Evangelical Baptist Church\, 14 Technical Park Drive\, Holbrook\, MA\, 02343\, United States
CATEGORIES:Worship Service
ATTACH;FMTTYPE=image/jpeg:https://nbebc.org/wp-content/uploads/2014/03/img_gallery12.jpg
END:VEVENT
BEGIN:VEVENT
DTSTART;TZID=America/New_York:20250202T103000
DTEND;TZID=America/New_York:20250202T120000
DTSTAMP:20260424T165411
CREATED:20230724T012254Z
LAST-MODIFIED:20230724T012254Z
UID:32703-1738492200-1738497600@nbebc.org
SUMMARY:Worship service
DESCRIPTION:Sunday 10:30AM: Worship service
URL:https://nbebc.org/event/worship-service-2025-02-02/
LOCATION:New Birth Evangelical Baptist Church\, 14 Technical Park Drive\, Holbrook\, MA\, 02343\, United States
CATEGORIES:Worship Service
ATTACH;FMTTYPE=image/jpeg:https://nbebc.org/wp-content/uploads/2014/03/img_gallery12.jpg
END:VEVENT
BEGIN:VEVENT
DTSTART;TZID=America/New_York:20250126T103000
DTEND;TZID=America/New_York:20250126T120000
DTSTAMP:20260424T165411
CREATED:20230724T012254Z
LAST-MODIFIED:20230724T012254Z
UID:32702-1737887400-1737892800@nbebc.org
SUMMARY:Worship service
DESCRIPTION:Sunday 10:30AM: Worship service
URL:https://nbebc.org/event/worship-service-2025-01-26/
LOCATION:New Birth Evangelical Baptist Church\, 14 Technical Park Drive\, Holbrook\, MA\, 02343\, United States
CATEGORIES:Worship Service
ATTACH;FMTTYPE=image/jpeg:https://nbebc.org/wp-content/uploads/2014/03/img_gallery12.jpg
END:VEVENT
BEGIN:VEVENT
DTSTART;TZID=America/New_York:20250119T103000
DTEND;TZID=America/New_York:20250119T120000
DTSTAMP:20260424T165411
CREATED:20230724T012254Z
LAST-MODIFIED:20230724T012254Z
UID:32701-1737282600-1737288000@nbebc.org
SUMMARY:Worship service
DESCRIPTION:Sunday 10:30AM: Worship service
URL:https://nbebc.org/event/worship-service-2025-01-19/
LOCATION:New Birth Evangelical Baptist Church\, 14 Technical Park Drive\, Holbrook\, MA\, 02343\, United States
CATEGORIES:Worship Service
ATTACH;FMTTYPE=image/jpeg:https://nbebc.org/wp-content/uploads/2014/03/img_gallery12.jpg
END:VEVENT
BEGIN:VEVENT
DTSTART;TZID=America/New_York:20250112T103000
DTEND;TZID=America/New_York:20250112T120000
DTSTAMP:20260424T165411
CREATED:20230724T012254Z
LAST-MODIFIED:20230724T012254Z
UID:32700-1736677800-1736683200@nbebc.org
SUMMARY:Worship service
DESCRIPTION:Sunday 10:30AM: Worship service
URL:https://nbebc.org/event/worship-service-2025-01-12/
LOCATION:New Birth Evangelical Baptist Church\, 14 Technical Park Drive\, Holbrook\, MA\, 02343\, United States
CATEGORIES:Worship Service
ATTACH;FMTTYPE=image/jpeg:https://nbebc.org/wp-content/uploads/2014/03/img_gallery12.jpg
END:VEVENT
BEGIN:VEVENT
DTSTART;TZID=America/New_York:20250105T103000
DTEND;TZID=America/New_York:20250105T120000
DTSTAMP:20260424T165411
CREATED:20230724T012254Z
LAST-MODIFIED:20230724T012254Z
UID:32699-1736073000-1736078400@nbebc.org
SUMMARY:Worship service
DESCRIPTION:Sunday 10:30AM: Worship service
URL:https://nbebc.org/event/worship-service-2025-01-05/
LOCATION:New Birth Evangelical Baptist Church\, 14 Technical Park Drive\, Holbrook\, MA\, 02343\, United States
CATEGORIES:Worship Service
ATTACH;FMTTYPE=image/jpeg:https://nbebc.org/wp-content/uploads/2014/03/img_gallery12.jpg
END:VEVENT
BEGIN:VEVENT
DTSTART;TZID=America/New_York:20241229T103000
DTEND;TZID=America/New_York:20241229T120000
DTSTAMP:20260424T165411
CREATED:20230724T012254Z
LAST-MODIFIED:20241128T135933Z
UID:32222-1735468200-1735473600@nbebc.org
SUMMARY:Worship service
DESCRIPTION:Sunday 10:30AM: Worship service
URL:https://nbebc.org/event/worship-service-2024-12-29/
LOCATION:New Birth Evangelical Baptist Church\, 14 Technical Park Drive\, Holbrook\, MA\, 02343\, United States
CATEGORIES:Worship Service
ATTACH;FMTTYPE=image/jpeg:https://nbebc.org/wp-content/uploads/2014/03/img_gallery12.jpg
END:VEVENT
BEGIN:VEVENT
DTSTART;TZID=America/New_York:20241222T103000
DTEND;TZID=America/New_York:20241222T120000
DTSTAMP:20260424T165411
CREATED:20230724T012254Z
LAST-MODIFIED:20241128T135933Z
UID:32221-1734863400-1734868800@nbebc.org
SUMMARY:Worship service
DESCRIPTION:Sunday 10:30AM: Worship service
URL:https://nbebc.org/event/worship-service-2024-12-22/
LOCATION:New Birth Evangelical Baptist Church\, 14 Technical Park Drive\, Holbrook\, MA\, 02343\, United States
CATEGORIES:Worship Service
ATTACH;FMTTYPE=image/jpeg:https://nbebc.org/wp-content/uploads/2014/03/img_gallery12.jpg
END:VEVENT
BEGIN:VEVENT
DTSTART;TZID=America/New_York:20241215T103000
DTEND;TZID=America/New_York:20241215T120000
DTSTAMP:20260424T165411
CREATED:20230724T012254Z
LAST-MODIFIED:20241128T135933Z
UID:32220-1734258600-1734264000@nbebc.org
SUMMARY:Worship service
DESCRIPTION:Sunday 10:30AM: Worship service
URL:https://nbebc.org/event/worship-service-2024-12-15/
LOCATION:New Birth Evangelical Baptist Church\, 14 Technical Park Drive\, Holbrook\, MA\, 02343\, United States
CATEGORIES:Worship Service
ATTACH;FMTTYPE=image/jpeg:https://nbebc.org/wp-content/uploads/2014/03/img_gallery12.jpg
END:VEVENT
BEGIN:VEVENT
DTSTART;TZID=America/New_York:20240107T103000
DTEND;TZID=America/New_York:20240107T120000
DTSTAMP:20260424T165411
CREATED:20230724T012254Z
LAST-MODIFIED:20241128T135914Z
UID:31715-1704623400-1704628800@nbebc.org
SUMMARY:Worship service
DESCRIPTION:Sunday 10:30AM: Worship service
URL:https://nbebc.org/event/worship-service/
LOCATION:New Birth Evangelical Baptist Church\, 14 Technical Park Drive\, Holbrook\, MA\, 02343\, United States
CATEGORIES:Worship Service
ATTACH;FMTTYPE=image/jpeg:https://nbebc.org/wp-content/uploads/2014/03/img_gallery12.jpg
END:VEVENT
END:VCALENDAR