BEGIN:VCALENDAR
VERSION:2.0
PRODID:-//New Birth Evangelical Baptist Church - ECPv6.13.2.1//NONSGML v1.0//EN
CALSCALE:GREGORIAN
METHOD:PUBLISH
X-ORIGINAL-URL:https://nbebc.org
X-WR-CALDESC:Events for New Birth Evangelical Baptist Church
REFRESH-INTERVAL;VALUE=DURATION:PT1H
X-Robots-Tag:noindex
X-PUBLISHED-TTL:PT1H
BEGIN:VTIMEZONE
TZID:America/New_York
BEGIN:DAYLIGHT
TZOFFSETFROM:-0500
TZOFFSETTO:-0400
TZNAME:EDT
DTSTART:20250309T070000
END:DAYLIGHT
BEGIN:STANDARD
TZOFFSETFROM:-0400
TZOFFSETTO:-0500
TZNAME:EST
DTSTART:20251102T060000
END:STANDARD
END:VTIMEZONE
BEGIN:VEVENT
DTSTART;TZID=America/New_York:20250630T190000
DTEND;TZID=America/New_York:20250630T194500
DTSTAMP:20260424T120801
CREATED:20230724T025109Z
LAST-MODIFIED:20230724T025109Z
UID:32626-1751310000-1751312700@nbebc.org
SUMMARY:Prayer Service
DESCRIPTION:All activities via Zoom \nMeeting ID: 362 566 0675\, Password: 139782 \nOr call 1-669-900-6833\, 3625660675## \n\nMonday 7:00-7:45PM: Prayer meeting for the needs of the church\nWednesday 10AM-12PM: Fasting prayer\nWednesday 7:30PM-8:30PM: Prayer meeting\nThursday 7:00PM-8:30PM: Prayer meeting\nSaturday 9AM-11:00AM: Prayer and Bible study\nSunday 10:30AM: Worship service (in person)
URL:https://nbebc.org/event/prayer-service-2025-06-30/
LOCATION:MA
CATEGORIES:Prayer Service
ATTACH;FMTTYPE=image/jpeg:https://nbebc.org/wp-content/uploads/2018/07/Slide1.jpg
END:VEVENT
BEGIN:VEVENT
DTSTART;TZID=America/New_York:20250629T103000
DTEND;TZID=America/New_York:20250629T120000
DTSTAMP:20260424T120801
CREATED:20230724T012254Z
LAST-MODIFIED:20230724T012254Z
UID:32724-1751193000-1751198400@nbebc.org
SUMMARY:Worship service
DESCRIPTION:Sunday 10:30AM: Worship service
URL:https://nbebc.org/event/worship-service-2025-06-29/
LOCATION:New Birth Evangelical Baptist Church\, 14 Technical Park Drive\, Holbrook\, MA\, 02343\, United States
CATEGORIES:Worship Service
ATTACH;FMTTYPE=image/jpeg:https://nbebc.org/wp-content/uploads/2014/03/img_gallery12.jpg
END:VEVENT
BEGIN:VEVENT
DTSTART;TZID=America/New_York:20250628T090000
DTEND;TZID=America/New_York:20250628T110000
DTSTAMP:20260424T120801
CREATED:20230724T032910Z
LAST-MODIFIED:20230724T032910Z
UID:32689-1751101200-1751108400@nbebc.org
SUMMARY:Prayer and Bible study
DESCRIPTION:All activities via Zoom \nMeeting ID: 362 566 0675\, Password: 139782 \nOr call 1-669-900-6833\, 3625660675## \n\nMonday 7:00-7:45PM: Prayer meeting for the needs of the church\nWednesday 10AM-12PM: Fasting prayer\nWednesday 7:30PM-8:30PM: Prayer meeting\nThursday 7:00PM-8:30PM: Prayer meeting\nSaturday 9AM-11:00AM: Prayer and Bible study\nSunday 10:30AM: Worship service (in person)
URL:https://nbebc.org/event/prayer-and-bible-study-2025-06-28/
LOCATION:New Birth Evangelical Baptist Church\, 14 Technical Park Drive\, Holbrook\, MA\, 02343\, United States
CATEGORIES:Prayer and Bible Study
ATTACH;FMTTYPE=image/jpeg:https://nbebc.org/wp-content/uploads/2018/07/Praying-Hands.jpg
END:VEVENT
BEGIN:VEVENT
DTSTART;TZID=America/New_York:20250626T190000
DTEND;TZID=America/New_York:20250626T203000
DTSTAMP:20260424T120801
CREATED:20230724T025109Z
LAST-MODIFIED:20230724T025109Z
UID:32625-1750964400-1750969800@nbebc.org
SUMMARY:Prayer Service
DESCRIPTION:All activities via Zoom \nMeeting ID: 362 566 0675\, Password: 139782 \nOr call 1-669-900-6833\, 3625660675## \n\nMonday 7:00-7:45PM: Prayer meeting for the needs of the church\nWednesday 10AM-12PM: Fasting prayer\nWednesday 7:30PM-8:30PM: Prayer meeting\nThursday 7:00PM-8:30PM: Prayer meeting\nSaturday 9AM-11:00AM: Prayer and Bible study\nSunday 10:30AM: Worship service (in person)
URL:https://nbebc.org/event/prayer-service-2025-06-26/
LOCATION:MA
CATEGORIES:Prayer Service
ATTACH;FMTTYPE=image/jpeg:https://nbebc.org/wp-content/uploads/2018/07/Slide1.jpg
END:VEVENT
BEGIN:VEVENT
DTSTART;TZID=America/New_York:20250625T190000
DTEND;TZID=America/New_York:20250625T203000
DTSTAMP:20260424T120801
CREATED:20230724T025109Z
LAST-MODIFIED:20230724T025109Z
UID:32624-1750878000-1750883400@nbebc.org
SUMMARY:Prayer Service
DESCRIPTION:All activities via Zoom \nMeeting ID: 362 566 0675\, Password: 139782 \nOr call 1-669-900-6833\, 3625660675## \n\nMonday 7:00-7:45PM: Prayer meeting for the needs of the church\nWednesday 10AM-12PM: Fasting prayer\nWednesday 7:30PM-8:30PM: Prayer meeting\nThursday 7:00PM-8:30PM: Prayer meeting\nSaturday 9AM-11:00AM: Prayer and Bible study\nSunday 10:30AM: Worship service (in person)
URL:https://nbebc.org/event/prayer-service-2025-06-25-2/
LOCATION:MA
CATEGORIES:Prayer Service
ATTACH;FMTTYPE=image/jpeg:https://nbebc.org/wp-content/uploads/2018/07/Slide1.jpg
END:VEVENT
BEGIN:VEVENT
DTSTART;TZID=America/New_York:20250625T100000
DTEND;TZID=America/New_York:20250625T120000
DTSTAMP:20260424T120801
CREATED:20230724T025109Z
LAST-MODIFIED:20230724T025109Z
UID:32623-1750845600-1750852800@nbebc.org
SUMMARY:Prayer Service
DESCRIPTION:All activities via Zoom \nMeeting ID: 362 566 0675\, Password: 139782 \nOr call 1-669-900-6833\, 3625660675## \n\nMonday 7:00-7:45PM: Prayer meeting for the needs of the church\nWednesday 10AM-12PM: Fasting prayer\nWednesday 7:30PM-8:30PM: Prayer meeting\nThursday 7:00PM-8:30PM: Prayer meeting\nSaturday 9AM-11:00AM: Prayer and Bible study\nSunday 10:30AM: Worship service (in person)
URL:https://nbebc.org/event/prayer-service-2025-06-25/
LOCATION:MA
CATEGORIES:Prayer Service
ATTACH;FMTTYPE=image/jpeg:https://nbebc.org/wp-content/uploads/2018/07/Slide1.jpg
END:VEVENT
BEGIN:VEVENT
DTSTART;TZID=America/New_York:20250623T190000
DTEND;TZID=America/New_York:20250623T194500
DTSTAMP:20260424T120801
CREATED:20230724T025109Z
LAST-MODIFIED:20230724T025109Z
UID:32622-1750705200-1750707900@nbebc.org
SUMMARY:Prayer Service
DESCRIPTION:All activities via Zoom \nMeeting ID: 362 566 0675\, Password: 139782 \nOr call 1-669-900-6833\, 3625660675## \n\nMonday 7:00-7:45PM: Prayer meeting for the needs of the church\nWednesday 10AM-12PM: Fasting prayer\nWednesday 7:30PM-8:30PM: Prayer meeting\nThursday 7:00PM-8:30PM: Prayer meeting\nSaturday 9AM-11:00AM: Prayer and Bible study\nSunday 10:30AM: Worship service (in person)
URL:https://nbebc.org/event/prayer-service-2025-06-23/
LOCATION:MA
CATEGORIES:Prayer Service
ATTACH;FMTTYPE=image/jpeg:https://nbebc.org/wp-content/uploads/2018/07/Slide1.jpg
END:VEVENT
BEGIN:VEVENT
DTSTART;TZID=America/New_York:20250622T103000
DTEND;TZID=America/New_York:20250622T120000
DTSTAMP:20260424T120801
CREATED:20230724T012254Z
LAST-MODIFIED:20230724T012254Z
UID:32723-1750588200-1750593600@nbebc.org
SUMMARY:Worship service
DESCRIPTION:Sunday 10:30AM: Worship service
URL:https://nbebc.org/event/worship-service-2025-06-22/
LOCATION:New Birth Evangelical Baptist Church\, 14 Technical Park Drive\, Holbrook\, MA\, 02343\, United States
CATEGORIES:Worship Service
ATTACH;FMTTYPE=image/jpeg:https://nbebc.org/wp-content/uploads/2014/03/img_gallery12.jpg
END:VEVENT
BEGIN:VEVENT
DTSTART;TZID=America/New_York:20250621T090000
DTEND;TZID=America/New_York:20250621T110000
DTSTAMP:20260424T120801
CREATED:20230724T032910Z
LAST-MODIFIED:20230724T032910Z
UID:32688-1750496400-1750503600@nbebc.org
SUMMARY:Prayer and Bible study
DESCRIPTION:All activities via Zoom \nMeeting ID: 362 566 0675\, Password: 139782 \nOr call 1-669-900-6833\, 3625660675## \n\nMonday 7:00-7:45PM: Prayer meeting for the needs of the church\nWednesday 10AM-12PM: Fasting prayer\nWednesday 7:30PM-8:30PM: Prayer meeting\nThursday 7:00PM-8:30PM: Prayer meeting\nSaturday 9AM-11:00AM: Prayer and Bible study\nSunday 10:30AM: Worship service (in person)
URL:https://nbebc.org/event/prayer-and-bible-study-2025-06-21/
LOCATION:New Birth Evangelical Baptist Church\, 14 Technical Park Drive\, Holbrook\, MA\, 02343\, United States
CATEGORIES:Prayer and Bible Study
ATTACH;FMTTYPE=image/jpeg:https://nbebc.org/wp-content/uploads/2018/07/Praying-Hands.jpg
END:VEVENT
BEGIN:VEVENT
DTSTART;TZID=America/New_York:20250619T190000
DTEND;TZID=America/New_York:20250619T203000
DTSTAMP:20260424T120801
CREATED:20230724T025109Z
LAST-MODIFIED:20230724T025109Z
UID:32621-1750359600-1750365000@nbebc.org
SUMMARY:Prayer Service
DESCRIPTION:All activities via Zoom \nMeeting ID: 362 566 0675\, Password: 139782 \nOr call 1-669-900-6833\, 3625660675## \n\nMonday 7:00-7:45PM: Prayer meeting for the needs of the church\nWednesday 10AM-12PM: Fasting prayer\nWednesday 7:30PM-8:30PM: Prayer meeting\nThursday 7:00PM-8:30PM: Prayer meeting\nSaturday 9AM-11:00AM: Prayer and Bible study\nSunday 10:30AM: Worship service (in person)
URL:https://nbebc.org/event/prayer-service-2025-06-19/
LOCATION:MA
CATEGORIES:Prayer Service
ATTACH;FMTTYPE=image/jpeg:https://nbebc.org/wp-content/uploads/2018/07/Slide1.jpg
END:VEVENT
BEGIN:VEVENT
DTSTART;TZID=America/New_York:20250618T190000
DTEND;TZID=America/New_York:20250618T203000
DTSTAMP:20260424T120801
CREATED:20230724T025109Z
LAST-MODIFIED:20230724T025109Z
UID:32620-1750273200-1750278600@nbebc.org
SUMMARY:Prayer Service
DESCRIPTION:All activities via Zoom \nMeeting ID: 362 566 0675\, Password: 139782 \nOr call 1-669-900-6833\, 3625660675## \n\nMonday 7:00-7:45PM: Prayer meeting for the needs of the church\nWednesday 10AM-12PM: Fasting prayer\nWednesday 7:30PM-8:30PM: Prayer meeting\nThursday 7:00PM-8:30PM: Prayer meeting\nSaturday 9AM-11:00AM: Prayer and Bible study\nSunday 10:30AM: Worship service (in person)
URL:https://nbebc.org/event/prayer-service-2025-06-18-2/
LOCATION:MA
CATEGORIES:Prayer Service
ATTACH;FMTTYPE=image/jpeg:https://nbebc.org/wp-content/uploads/2018/07/Slide1.jpg
END:VEVENT
BEGIN:VEVENT
DTSTART;TZID=America/New_York:20250618T100000
DTEND;TZID=America/New_York:20250618T120000
DTSTAMP:20260424T120801
CREATED:20230724T025109Z
LAST-MODIFIED:20230724T025109Z
UID:32619-1750240800-1750248000@nbebc.org
SUMMARY:Prayer Service
DESCRIPTION:All activities via Zoom \nMeeting ID: 362 566 0675\, Password: 139782 \nOr call 1-669-900-6833\, 3625660675## \n\nMonday 7:00-7:45PM: Prayer meeting for the needs of the church\nWednesday 10AM-12PM: Fasting prayer\nWednesday 7:30PM-8:30PM: Prayer meeting\nThursday 7:00PM-8:30PM: Prayer meeting\nSaturday 9AM-11:00AM: Prayer and Bible study\nSunday 10:30AM: Worship service (in person)
URL:https://nbebc.org/event/prayer-service-2025-06-18/
LOCATION:MA
CATEGORIES:Prayer Service
ATTACH;FMTTYPE=image/jpeg:https://nbebc.org/wp-content/uploads/2018/07/Slide1.jpg
END:VEVENT
BEGIN:VEVENT
DTSTART;TZID=America/New_York:20250616T190000
DTEND;TZID=America/New_York:20250616T194500
DTSTAMP:20260424T120801
CREATED:20230724T025109Z
LAST-MODIFIED:20230724T025109Z
UID:32618-1750100400-1750103100@nbebc.org
SUMMARY:Prayer Service
DESCRIPTION:All activities via Zoom \nMeeting ID: 362 566 0675\, Password: 139782 \nOr call 1-669-900-6833\, 3625660675## \n\nMonday 7:00-7:45PM: Prayer meeting for the needs of the church\nWednesday 10AM-12PM: Fasting prayer\nWednesday 7:30PM-8:30PM: Prayer meeting\nThursday 7:00PM-8:30PM: Prayer meeting\nSaturday 9AM-11:00AM: Prayer and Bible study\nSunday 10:30AM: Worship service (in person)
URL:https://nbebc.org/event/prayer-service-2025-06-16/
LOCATION:MA
CATEGORIES:Prayer Service
ATTACH;FMTTYPE=image/jpeg:https://nbebc.org/wp-content/uploads/2018/07/Slide1.jpg
END:VEVENT
BEGIN:VEVENT
DTSTART;TZID=America/New_York:20250615T103000
DTEND;TZID=America/New_York:20250615T120000
DTSTAMP:20260424T120801
CREATED:20230724T012254Z
LAST-MODIFIED:20230724T012254Z
UID:32722-1749983400-1749988800@nbebc.org
SUMMARY:Worship service
DESCRIPTION:Sunday 10:30AM: Worship service
URL:https://nbebc.org/event/worship-service-2025-06-15/
LOCATION:New Birth Evangelical Baptist Church\, 14 Technical Park Drive\, Holbrook\, MA\, 02343\, United States
CATEGORIES:Worship Service
ATTACH;FMTTYPE=image/jpeg:https://nbebc.org/wp-content/uploads/2014/03/img_gallery12.jpg
END:VEVENT
BEGIN:VEVENT
DTSTART;TZID=America/New_York:20250614T090000
DTEND;TZID=America/New_York:20250614T110000
DTSTAMP:20260424T120801
CREATED:20230724T032910Z
LAST-MODIFIED:20230724T032910Z
UID:32687-1749891600-1749898800@nbebc.org
SUMMARY:Prayer and Bible study
DESCRIPTION:All activities via Zoom \nMeeting ID: 362 566 0675\, Password: 139782 \nOr call 1-669-900-6833\, 3625660675## \n\nMonday 7:00-7:45PM: Prayer meeting for the needs of the church\nWednesday 10AM-12PM: Fasting prayer\nWednesday 7:30PM-8:30PM: Prayer meeting\nThursday 7:00PM-8:30PM: Prayer meeting\nSaturday 9AM-11:00AM: Prayer and Bible study\nSunday 10:30AM: Worship service (in person)
URL:https://nbebc.org/event/prayer-and-bible-study-2025-06-14/
LOCATION:New Birth Evangelical Baptist Church\, 14 Technical Park Drive\, Holbrook\, MA\, 02343\, United States
CATEGORIES:Prayer and Bible Study
ATTACH;FMTTYPE=image/jpeg:https://nbebc.org/wp-content/uploads/2018/07/Praying-Hands.jpg
END:VEVENT
BEGIN:VEVENT
DTSTART;TZID=America/New_York:20250612T190000
DTEND;TZID=America/New_York:20250612T203000
DTSTAMP:20260424T120801
CREATED:20230724T025109Z
LAST-MODIFIED:20230724T025109Z
UID:32617-1749754800-1749760200@nbebc.org
SUMMARY:Prayer Service
DESCRIPTION:All activities via Zoom \nMeeting ID: 362 566 0675\, Password: 139782 \nOr call 1-669-900-6833\, 3625660675## \n\nMonday 7:00-7:45PM: Prayer meeting for the needs of the church\nWednesday 10AM-12PM: Fasting prayer\nWednesday 7:30PM-8:30PM: Prayer meeting\nThursday 7:00PM-8:30PM: Prayer meeting\nSaturday 9AM-11:00AM: Prayer and Bible study\nSunday 10:30AM: Worship service (in person)
URL:https://nbebc.org/event/prayer-service-2025-06-12/
LOCATION:MA
CATEGORIES:Prayer Service
ATTACH;FMTTYPE=image/jpeg:https://nbebc.org/wp-content/uploads/2018/07/Slide1.jpg
END:VEVENT
BEGIN:VEVENT
DTSTART;TZID=America/New_York:20250611T190000
DTEND;TZID=America/New_York:20250611T203000
DTSTAMP:20260424T120801
CREATED:20230724T025109Z
LAST-MODIFIED:20230724T025109Z
UID:32616-1749668400-1749673800@nbebc.org
SUMMARY:Prayer Service
DESCRIPTION:All activities via Zoom \nMeeting ID: 362 566 0675\, Password: 139782 \nOr call 1-669-900-6833\, 3625660675## \n\nMonday 7:00-7:45PM: Prayer meeting for the needs of the church\nWednesday 10AM-12PM: Fasting prayer\nWednesday 7:30PM-8:30PM: Prayer meeting\nThursday 7:00PM-8:30PM: Prayer meeting\nSaturday 9AM-11:00AM: Prayer and Bible study\nSunday 10:30AM: Worship service (in person)
URL:https://nbebc.org/event/prayer-service-2025-06-11-2/
LOCATION:MA
CATEGORIES:Prayer Service
ATTACH;FMTTYPE=image/jpeg:https://nbebc.org/wp-content/uploads/2018/07/Slide1.jpg
END:VEVENT
BEGIN:VEVENT
DTSTART;TZID=America/New_York:20250611T100000
DTEND;TZID=America/New_York:20250611T120000
DTSTAMP:20260424T120801
CREATED:20230724T025109Z
LAST-MODIFIED:20230724T025109Z
UID:32615-1749636000-1749643200@nbebc.org
SUMMARY:Prayer Service
DESCRIPTION:All activities via Zoom \nMeeting ID: 362 566 0675\, Password: 139782 \nOr call 1-669-900-6833\, 3625660675## \n\nMonday 7:00-7:45PM: Prayer meeting for the needs of the church\nWednesday 10AM-12PM: Fasting prayer\nWednesday 7:30PM-8:30PM: Prayer meeting\nThursday 7:00PM-8:30PM: Prayer meeting\nSaturday 9AM-11:00AM: Prayer and Bible study\nSunday 10:30AM: Worship service (in person)
URL:https://nbebc.org/event/prayer-service-2025-06-11/
LOCATION:MA
CATEGORIES:Prayer Service
ATTACH;FMTTYPE=image/jpeg:https://nbebc.org/wp-content/uploads/2018/07/Slide1.jpg
END:VEVENT
BEGIN:VEVENT
DTSTART;TZID=America/New_York:20250609T190000
DTEND;TZID=America/New_York:20250609T194500
DTSTAMP:20260424T120801
CREATED:20230724T025109Z
LAST-MODIFIED:20230724T025109Z
UID:32614-1749495600-1749498300@nbebc.org
SUMMARY:Prayer Service
DESCRIPTION:All activities via Zoom \nMeeting ID: 362 566 0675\, Password: 139782 \nOr call 1-669-900-6833\, 3625660675## \n\nMonday 7:00-7:45PM: Prayer meeting for the needs of the church\nWednesday 10AM-12PM: Fasting prayer\nWednesday 7:30PM-8:30PM: Prayer meeting\nThursday 7:00PM-8:30PM: Prayer meeting\nSaturday 9AM-11:00AM: Prayer and Bible study\nSunday 10:30AM: Worship service (in person)
URL:https://nbebc.org/event/prayer-service-2025-06-09/
LOCATION:MA
CATEGORIES:Prayer Service
ATTACH;FMTTYPE=image/jpeg:https://nbebc.org/wp-content/uploads/2018/07/Slide1.jpg
END:VEVENT
BEGIN:VEVENT
DTSTART;TZID=America/New_York:20250608T103000
DTEND;TZID=America/New_York:20250608T120000
DTSTAMP:20260424T120801
CREATED:20230724T012254Z
LAST-MODIFIED:20230724T012254Z
UID:32721-1749378600-1749384000@nbebc.org
SUMMARY:Worship service
DESCRIPTION:Sunday 10:30AM: Worship service
URL:https://nbebc.org/event/worship-service-2025-06-08/
LOCATION:New Birth Evangelical Baptist Church\, 14 Technical Park Drive\, Holbrook\, MA\, 02343\, United States
CATEGORIES:Worship Service
ATTACH;FMTTYPE=image/jpeg:https://nbebc.org/wp-content/uploads/2014/03/img_gallery12.jpg
END:VEVENT
BEGIN:VEVENT
DTSTART;TZID=America/New_York:20250607T090000
DTEND;TZID=America/New_York:20250607T110000
DTSTAMP:20260424T120801
CREATED:20230724T032910Z
LAST-MODIFIED:20230724T032910Z
UID:32686-1749286800-1749294000@nbebc.org
SUMMARY:Prayer and Bible study
DESCRIPTION:All activities via Zoom \nMeeting ID: 362 566 0675\, Password: 139782 \nOr call 1-669-900-6833\, 3625660675## \n\nMonday 7:00-7:45PM: Prayer meeting for the needs of the church\nWednesday 10AM-12PM: Fasting prayer\nWednesday 7:30PM-8:30PM: Prayer meeting\nThursday 7:00PM-8:30PM: Prayer meeting\nSaturday 9AM-11:00AM: Prayer and Bible study\nSunday 10:30AM: Worship service (in person)
URL:https://nbebc.org/event/prayer-and-bible-study-2025-06-07/
LOCATION:New Birth Evangelical Baptist Church\, 14 Technical Park Drive\, Holbrook\, MA\, 02343\, United States
CATEGORIES:Prayer and Bible Study
ATTACH;FMTTYPE=image/jpeg:https://nbebc.org/wp-content/uploads/2018/07/Praying-Hands.jpg
END:VEVENT
BEGIN:VEVENT
DTSTART;TZID=America/New_York:20250605T190000
DTEND;TZID=America/New_York:20250605T203000
DTSTAMP:20260424T120801
CREATED:20230724T025109Z
LAST-MODIFIED:20230724T025109Z
UID:32613-1749150000-1749155400@nbebc.org
SUMMARY:Prayer Service
DESCRIPTION:All activities via Zoom \nMeeting ID: 362 566 0675\, Password: 139782 \nOr call 1-669-900-6833\, 3625660675## \n\nMonday 7:00-7:45PM: Prayer meeting for the needs of the church\nWednesday 10AM-12PM: Fasting prayer\nWednesday 7:30PM-8:30PM: Prayer meeting\nThursday 7:00PM-8:30PM: Prayer meeting\nSaturday 9AM-11:00AM: Prayer and Bible study\nSunday 10:30AM: Worship service (in person)
URL:https://nbebc.org/event/prayer-service-2025-06-05/
LOCATION:MA
CATEGORIES:Prayer Service
ATTACH;FMTTYPE=image/jpeg:https://nbebc.org/wp-content/uploads/2018/07/Slide1.jpg
END:VEVENT
BEGIN:VEVENT
DTSTART;TZID=America/New_York:20250604T190000
DTEND;TZID=America/New_York:20250604T203000
DTSTAMP:20260424T120801
CREATED:20230724T025109Z
LAST-MODIFIED:20230724T025109Z
UID:32612-1749063600-1749069000@nbebc.org
SUMMARY:Prayer Service
DESCRIPTION:All activities via Zoom \nMeeting ID: 362 566 0675\, Password: 139782 \nOr call 1-669-900-6833\, 3625660675## \n\nMonday 7:00-7:45PM: Prayer meeting for the needs of the church\nWednesday 10AM-12PM: Fasting prayer\nWednesday 7:30PM-8:30PM: Prayer meeting\nThursday 7:00PM-8:30PM: Prayer meeting\nSaturday 9AM-11:00AM: Prayer and Bible study\nSunday 10:30AM: Worship service (in person)
URL:https://nbebc.org/event/prayer-service-2025-06-04-2/
LOCATION:MA
CATEGORIES:Prayer Service
ATTACH;FMTTYPE=image/jpeg:https://nbebc.org/wp-content/uploads/2018/07/Slide1.jpg
END:VEVENT
BEGIN:VEVENT
DTSTART;TZID=America/New_York:20250604T100000
DTEND;TZID=America/New_York:20250604T120000
DTSTAMP:20260424T120801
CREATED:20230724T025109Z
LAST-MODIFIED:20230724T025109Z
UID:32611-1749031200-1749038400@nbebc.org
SUMMARY:Prayer Service
DESCRIPTION:All activities via Zoom \nMeeting ID: 362 566 0675\, Password: 139782 \nOr call 1-669-900-6833\, 3625660675## \n\nMonday 7:00-7:45PM: Prayer meeting for the needs of the church\nWednesday 10AM-12PM: Fasting prayer\nWednesday 7:30PM-8:30PM: Prayer meeting\nThursday 7:00PM-8:30PM: Prayer meeting\nSaturday 9AM-11:00AM: Prayer and Bible study\nSunday 10:30AM: Worship service (in person)
URL:https://nbebc.org/event/prayer-service-2025-06-04/
LOCATION:MA
CATEGORIES:Prayer Service
ATTACH;FMTTYPE=image/jpeg:https://nbebc.org/wp-content/uploads/2018/07/Slide1.jpg
END:VEVENT
BEGIN:VEVENT
DTSTART;TZID=America/New_York:20250602T190000
DTEND;TZID=America/New_York:20250602T194500
DTSTAMP:20260424T120801
CREATED:20230724T025109Z
LAST-MODIFIED:20230724T025109Z
UID:32610-1748890800-1748893500@nbebc.org
SUMMARY:Prayer Service
DESCRIPTION:All activities via Zoom \nMeeting ID: 362 566 0675\, Password: 139782 \nOr call 1-669-900-6833\, 3625660675## \n\nMonday 7:00-7:45PM: Prayer meeting for the needs of the church\nWednesday 10AM-12PM: Fasting prayer\nWednesday 7:30PM-8:30PM: Prayer meeting\nThursday 7:00PM-8:30PM: Prayer meeting\nSaturday 9AM-11:00AM: Prayer and Bible study\nSunday 10:30AM: Worship service (in person)
URL:https://nbebc.org/event/prayer-service-2025-06-02/
LOCATION:MA
CATEGORIES:Prayer Service
ATTACH;FMTTYPE=image/jpeg:https://nbebc.org/wp-content/uploads/2018/07/Slide1.jpg
END:VEVENT
BEGIN:VEVENT
DTSTART;TZID=America/New_York:20250601T103000
DTEND;TZID=America/New_York:20250601T120000
DTSTAMP:20260424T120801
CREATED:20230724T012254Z
LAST-MODIFIED:20230724T012254Z
UID:32720-1748773800-1748779200@nbebc.org
SUMMARY:Worship service
DESCRIPTION:Sunday 10:30AM: Worship service
URL:https://nbebc.org/event/worship-service-2025-06-01/
LOCATION:New Birth Evangelical Baptist Church\, 14 Technical Park Drive\, Holbrook\, MA\, 02343\, United States
CATEGORIES:Worship Service
ATTACH;FMTTYPE=image/jpeg:https://nbebc.org/wp-content/uploads/2014/03/img_gallery12.jpg
END:VEVENT
BEGIN:VEVENT
DTSTART;TZID=America/New_York:20250531T090000
DTEND;TZID=America/New_York:20250531T110000
DTSTAMP:20260424T120801
CREATED:20230724T032910Z
LAST-MODIFIED:20230724T032910Z
UID:32685-1748682000-1748689200@nbebc.org
SUMMARY:Prayer and Bible study
DESCRIPTION:All activities via Zoom \nMeeting ID: 362 566 0675\, Password: 139782 \nOr call 1-669-900-6833\, 3625660675## \n\nMonday 7:00-7:45PM: Prayer meeting for the needs of the church\nWednesday 10AM-12PM: Fasting prayer\nWednesday 7:30PM-8:30PM: Prayer meeting\nThursday 7:00PM-8:30PM: Prayer meeting\nSaturday 9AM-11:00AM: Prayer and Bible study\nSunday 10:30AM: Worship service (in person)
URL:https://nbebc.org/event/prayer-and-bible-study-2025-05-31/
LOCATION:New Birth Evangelical Baptist Church\, 14 Technical Park Drive\, Holbrook\, MA\, 02343\, United States
CATEGORIES:Prayer and Bible Study
ATTACH;FMTTYPE=image/jpeg:https://nbebc.org/wp-content/uploads/2018/07/Praying-Hands.jpg
END:VEVENT
BEGIN:VEVENT
DTSTART;TZID=America/New_York:20250529T190000
DTEND;TZID=America/New_York:20250529T203000
DTSTAMP:20260424T120801
CREATED:20230724T025109Z
LAST-MODIFIED:20230724T025109Z
UID:32609-1748545200-1748550600@nbebc.org
SUMMARY:Prayer Service
DESCRIPTION:All activities via Zoom \nMeeting ID: 362 566 0675\, Password: 139782 \nOr call 1-669-900-6833\, 3625660675## \n\nMonday 7:00-7:45PM: Prayer meeting for the needs of the church\nWednesday 10AM-12PM: Fasting prayer\nWednesday 7:30PM-8:30PM: Prayer meeting\nThursday 7:00PM-8:30PM: Prayer meeting\nSaturday 9AM-11:00AM: Prayer and Bible study\nSunday 10:30AM: Worship service (in person)
URL:https://nbebc.org/event/prayer-service-2025-05-29/
LOCATION:MA
CATEGORIES:Prayer Service
ATTACH;FMTTYPE=image/jpeg:https://nbebc.org/wp-content/uploads/2018/07/Slide1.jpg
END:VEVENT
BEGIN:VEVENT
DTSTART;TZID=America/New_York:20250528T190000
DTEND;TZID=America/New_York:20250528T203000
DTSTAMP:20260424T120801
CREATED:20230724T025109Z
LAST-MODIFIED:20230724T025109Z
UID:32608-1748458800-1748464200@nbebc.org
SUMMARY:Prayer Service
DESCRIPTION:All activities via Zoom \nMeeting ID: 362 566 0675\, Password: 139782 \nOr call 1-669-900-6833\, 3625660675## \n\nMonday 7:00-7:45PM: Prayer meeting for the needs of the church\nWednesday 10AM-12PM: Fasting prayer\nWednesday 7:30PM-8:30PM: Prayer meeting\nThursday 7:00PM-8:30PM: Prayer meeting\nSaturday 9AM-11:00AM: Prayer and Bible study\nSunday 10:30AM: Worship service (in person)
URL:https://nbebc.org/event/prayer-service-2025-05-28-2/
LOCATION:MA
CATEGORIES:Prayer Service
ATTACH;FMTTYPE=image/jpeg:https://nbebc.org/wp-content/uploads/2018/07/Slide1.jpg
END:VEVENT
BEGIN:VEVENT
DTSTART;TZID=America/New_York:20250528T100000
DTEND;TZID=America/New_York:20250528T120000
DTSTAMP:20260424T120801
CREATED:20230724T025109Z
LAST-MODIFIED:20230724T025109Z
UID:32607-1748426400-1748433600@nbebc.org
SUMMARY:Prayer Service
DESCRIPTION:All activities via Zoom \nMeeting ID: 362 566 0675\, Password: 139782 \nOr call 1-669-900-6833\, 3625660675## \n\nMonday 7:00-7:45PM: Prayer meeting for the needs of the church\nWednesday 10AM-12PM: Fasting prayer\nWednesday 7:30PM-8:30PM: Prayer meeting\nThursday 7:00PM-8:30PM: Prayer meeting\nSaturday 9AM-11:00AM: Prayer and Bible study\nSunday 10:30AM: Worship service (in person)
URL:https://nbebc.org/event/prayer-service-2025-05-28/
LOCATION:MA
CATEGORIES:Prayer Service
ATTACH;FMTTYPE=image/jpeg:https://nbebc.org/wp-content/uploads/2018/07/Slide1.jpg
END:VEVENT
END:VCALENDAR